BEGIN:VCALENDAR
VERSION:2.0
PRODID:-//Eventin//Event Calendar//EN
CALSCALE:GREGORIAN
METHOD:PUBLISH
BEGIN:VEVENT
UID:2718a6ba7233f43beef6a83e8889fe0d@rainbowbridgehawaii.com
SUMMARY:Healing Dreams and Lucid Transformation Retreat Hosted By Clare Joh
 nson
DESCRIPTION:Join a Transformational Dream Healing Retreat with Dr. Clare Jo
 hnson\n\n\n\n\n\n\n\nParticipate in a transformational experience in dream 
 healing incubation and lucid dreaming at an intentionally built Dream Templ
 e on the Big Island of Hawaiʻi.\nDeepen your innate ability to heal yourse
 lf through incubation rituals in a specially built Dream Temple with stunni
 ng ocean views. Swim in natural waterfalls and enjoy the high vibrations of
  this beauty spot while engaging in profound dreamwork\, active and playful
  somatic exercises\, and healing meditations in lush nature.\nThen join us 
 for an exciting optional extra: a Lucid Dream Workshop with Ecstatic Dance 
 with the wider community on Saturday\, June 27\, featuring a wonderful DJ g
 uiding us into a soul-expanding dance journey.\nHere you will find more inf
 ormation about the location\, accommodations\, and food. For full event det
 ails and to secure your spot\, please visit Clare’s website. After regist
 ering for the workshop\, visit our details page and reach out to us to arra
 nge accommodations.\n\n \n\n\n\n\n\nRegister on Clare's Website
LOCATION:Rainbow Bridge Hawaii
DTSTAMP:20260421T125215Z
DTSTART:20260620T180000Z
DTEND:20260625T030000Z
END:VEVENT
END:VCALENDAR
